BEGIN:VCALENDAR
VERSION:2.0
PRODID:-//Privelacker Paradiesgarten - ECPv6.15.20//NONSGML v1.0//EN
CALSCALE:GREGORIAN
METHOD:PUBLISH
X-WR-CALNAME:Privelacker Paradiesgarten
X-ORIGINAL-URL:https://privelacker-paradiesgarten.de
X-WR-CALDESC:Veranstaltungen für Privelacker Paradiesgarten
REFRESH-INTERVAL;VALUE=DURATION:PT1H
X-Robots-Tag:noindex
X-PUBLISHED-TTL:PT1H
BEGIN:VTIMEZONE
TZID:Europe/Berlin
BEGIN:DAYLIGHT
TZOFFSETFROM:+0100
TZOFFSETTO:+0200
TZNAME:CEST
DTSTART:20250330T010000
END:DAYLIGHT
BEGIN:STANDARD
TZOFFSETFROM:+0200
TZOFFSETTO:+0100
TZNAME:CET
DTSTART:20251026T010000
END:STANDARD
BEGIN:DAYLIGHT
TZOFFSETFROM:+0100
TZOFFSETTO:+0200
TZNAME:CEST
DTSTART:20260329T010000
END:DAYLIGHT
BEGIN:STANDARD
TZOFFSETFROM:+0200
TZOFFSETTO:+0100
TZNAME:CET
DTSTART:20261025T010000
END:STANDARD
BEGIN:DAYLIGHT
TZOFFSETFROM:+0100
TZOFFSETTO:+0200
TZNAME:CEST
DTSTART:20270328T010000
END:DAYLIGHT
BEGIN:STANDARD
TZOFFSETFROM:+0200
TZOFFSETTO:+0100
TZNAME:CET
DTSTART:20271031T010000
END:STANDARD
END:VTIMEZONE
BEGIN:VEVENT
DTSTART;TZID=Europe/Berlin:20260328T183000
DTEND;TZID=Europe/Berlin:20260328T210000
DTSTAMP:20260419T153316
CREATED:20260302T131231Z
LAST-MODIFIED:20260302T132603Z
UID:10553-1774722600-1774731600@privelacker-paradiesgarten.de
SUMMARY:Weinprobe mit Paulin Köpfer am 28.3.
DESCRIPTION:Wir freuen uns auf eine Weinprobe mit Paulin Köpfer am Sonnabend\, 28. März um 18:30. Pulin Köpfer\, eine Koriphäe des Biowein-Anbaues\, \nPaulin Köpfer ist einer der bedeutendsten Wegbereiter des ökologischen und biodynamischen Weinbaus in Deutschland. Aufgewachsen in einer traditionsreichen Winzerfamilie in Staufen‑Grunern\, übernahm er 1987 die Leitung des Weinguts Zähringer in Heitersheim und stellte den Betrieb konsequent auf nachhaltige Bewirtschaftung um. Unter seiner Führung erhielt das Weingut 2005 die Demeter‑Zertifizierung und wurde zu einem Vorzeigebetrieb für ökologischen Weinbau in Baden. Als langjähriger Vorsitzender von ECOVIN Baden und engagierter Förderer von PIWI‑Rebsorten setzte Köpfer wichtige Impulse für Biodiversität\, Klimaschutz und zukunftsfähige Weinbaukonzepte. Nach 37 Jahren im Weingut Zähringer ging er 2024 in den Ruhestand – sein Einfluss auf die Bio‑Weinszene bleibt jedoch prägend. \nPaulin stellt uns Weine seines Sohnes Gabriel vor\, der das Bioweingut Köpfer leitet. Unser Hofladen führt eine Auswahl seiner Weine.
URL:https://privelacker-paradiesgarten.de/event/weinprobe-mit-paulin-koepfer-am-28-3/
LOCATION:Privelacker Paradiesgarten\, Elbstrasse 4\, Privelack / Amt Neuhaus\, Deutschland\, 19273\, Deutschland
CATEGORIES:Verkostung
ATTACH;FMTTYPE=image/jpeg:https://privelacker-paradiesgarten.de/wp-content/uploads/2026/03/Pailin_Koepfer-500x281-1.jpg
END:VEVENT
END:VCALENDAR