BEGIN:VCALENDAR
VERSION:2.0
PRODID:-//Privelacker Paradiesgarten - ECPv6.15.20//NONSGML v1.0//EN
CALSCALE:GREGORIAN
METHOD:PUBLISH
X-WR-CALNAME:Privelacker Paradiesgarten
X-ORIGINAL-URL:https://privelacker-paradiesgarten.de
X-WR-CALDESC:Veranstaltungen für Privelacker Paradiesgarten
REFRESH-INTERVAL;VALUE=DURATION:PT1H
X-Robots-Tag:noindex
X-PUBLISHED-TTL:PT1H
BEGIN:VTIMEZONE
TZID:Europe/Berlin
BEGIN:DAYLIGHT
TZOFFSETFROM:+0100
TZOFFSETTO:+0200
TZNAME:CEST
DTSTART:20250330T010000
END:DAYLIGHT
BEGIN:STANDARD
TZOFFSETFROM:+0200
TZOFFSETTO:+0100
TZNAME:CET
DTSTART:20251026T010000
END:STANDARD
BEGIN:DAYLIGHT
TZOFFSETFROM:+0100
TZOFFSETTO:+0200
TZNAME:CEST
DTSTART:20260329T010000
END:DAYLIGHT
BEGIN:STANDARD
TZOFFSETFROM:+0200
TZOFFSETTO:+0100
TZNAME:CET
DTSTART:20261025T010000
END:STANDARD
BEGIN:DAYLIGHT
TZOFFSETFROM:+0100
TZOFFSETTO:+0200
TZNAME:CEST
DTSTART:20270328T010000
END:DAYLIGHT
BEGIN:STANDARD
TZOFFSETFROM:+0200
TZOFFSETTO:+0100
TZNAME:CET
DTSTART:20271031T010000
END:STANDARD
END:VTIMEZONE
BEGIN:VEVENT
DTSTART;TZID=Europe/Berlin:20260418T150000
DTEND;TZID=Europe/Berlin:20260418T170000
DTSTAMP:20260419T141606
CREATED:20260410T073915Z
LAST-MODIFIED:20260410T081011Z
UID:10576-1776524400-1776531600@privelacker-paradiesgarten.de
SUMMARY:Vielfalt säen
DESCRIPTION:Vielfalt säen – Alte Nutzpflanzensorten im Fokus:\nVeranstaltung im Privelacker Paradiesgarten \nDie Ortsgruppe Amt Neuhaus des Ortsverbands Bleckede/Amt Neuhaus von BÜNDNIS 90/Die Grünen lädt am 18. April um 15 Uhr in den Paradiesgarten Privelack (Elbstraße 4) ein. Der Eintritt ist frei. \nIm Mittelpunkt steht ein Vortrag von Janine Fiedler\, Leiterin des Schaugartens des VERN e. V. aus Angermünde. Sie stellt samenfeste Sorten vor und ihre Bedeutung für die Kulturpflanzenvielfalt dar\, erläutert Unterschiede zu Hybridsorten und berichtet aus der praktischen Arbeit mit alten Pflanzenarten. Ein kurzer Praxisimpuls zum Umgang mit Saatgut sowie eine Gesprächsrunde ergänzen das Programm. \nKontakt: hallo@gruene-amtneuhaus.de \nEin kleiner Hinweis auf unseren Gartenmarkt am 9. Mai
URL:https://privelacker-paradiesgarten.de/event/vielfalt-saeen/
LOCATION:Privelacker Paradiesgarten\, Elbstrasse 4\, Privelack / Amt Neuhaus\, Deutschland\, 19273\, Deutschland
CATEGORIES:Garten,Information
ATTACH;FMTTYPE=image/jpeg:https://privelacker-paradiesgarten.de/wp-content/uploads/2026/04/Saatgutschrank-scaled.jpg
END:VEVENT
END:VCALENDAR